BEGIN:VCALENDAR
VERSION:2.0
PRODID:-//AIP Calendar//www.aip.de//
BEGIN:VEVENT
SUMMARY:Special Edition Babelsberger Sternennacht: 4MOST
DTSTART:20240308T180000Z
DTEND:20240308T193000Z
DTSTAMP:20260423T183245Z
UID:www.aip.de-1827
CATEGORIES:Öffentliches
CATEGORIES:Allgemeiner Kalendertermin
CATEGORIES:öffentlich
CONTACT:presse@aip.de
DESCRIPTION:Am Freitag\, 8. März 2024\, ab 19.00 Uhr lädt das Leibniz-In
 stitut für Astrophysik Potsdam (AIP) zu einer Special Edition der Babelsb
 erger Sternennächte live auf dem Campus Babelsberg des AIP ein. Dr. Andre
 as Kelz hält einen Vortrag zum Thema „4MOST – Mit 2400 Augen den Himm
 el beobachten&quot\;.\nIm Anschluss bieten wir einen Rundgang über das Ge
 lände mit Blick in die Integrationshalle\, in der das 4MOST-Instrument zu
 sammengebaut wird. Bei klarer Sicht ist auch eine Beobachtung an einem uns
 erer Spiegelteleskope möglich.\nWir freuen uns auf Ihren Besuch!\nFreier 
 Eintritt\, keine Anmeldung erforderlich.\n
LOCATION:Hörsaal Schwarzschildhaus\, Leibniz-Institut für Astrophysik Po
 tsdam (AIP)\, An der Sternwarte 16\, 14482 Potsdam
END:VEVENT
END:VCALENDAR
