BEGIN:VCALENDAR
VERSION:2.0
PRODID:-//AIP Calendar//www.aip.de//
BEGIN:VEVENT
SUMMARY:Colloquium | Alice Quillen (University of Rochester)
DTSTART:20260430T123000Z
DTEND:20260430T133000Z
DTSTAMP:20260422T014004Z
UID:www.aip.de-2347
CATEGORIES:Wissenschaftliches
CATEGORIES:Wissenschaftlicher Vortrag
CATEGORIES:öffentlich
CATEGORIES:Kolloquium
CONTACT:Ivan Minchev <iminchev@aip.de>
DESCRIPTION:Speaker: Alice Quillen (University of Rochester)\nTitle: Conne
 ctions and Complexity in Dynamical Astronomy: From Classical to Quantum Ch
 aos\nAbstract: TBD\n
LOCATION:AIP\; Kirch-Haus\, Konferenzraum
END:VEVENT
END:VCALENDAR
