BEGIN:VCALENDAR
VERSION:2.0
PRODID:-//AIP Calendar//www.aip.de//
BEGIN:VEVENT
SUMMARY:Colloquium | Antoine Strugarek (CEA Saclay | Paris\, France)
DTSTART:20261015T123000Z
DTEND:20261015T133000Z
DTSTAMP:20260422T014231Z
UID:www.aip.de-2353
CATEGORIES:Wissenschaftliches
CATEGORIES:Wissenschaftlicher Vortrag
CATEGORIES:öffentlich
CATEGORIES:Kolloquium
CONTACT:Julián Alvarado-Gómez <julian.alvarado-gomez@aip.de>
DESCRIPTION:Speaker: Antoine Strugarek (CEA Saclay | Paris\, France)\nTitl
 e: TBD\nAbstract: TBD\nNote: Hosts: Ilaria Civale and Katja Poppenhäger\n
LOCATION:AIP\; Kirch-Haus\, Konferenzraum
END:VEVENT
END:VCALENDAR
