BEGIN:VCALENDAR
VERSION:2.0
PRODID:-//AIP Calendar//www.aip.de//
BEGIN:VEVENT
SUMMARY:Colloquium | Andrew Pontzen (Durham University)
DTSTART:20261112T133000Z
DTEND:20261112T143000Z
DTSTAMP:20260422T014321Z
UID:www.aip.de-2359
CATEGORIES:Wissenschaftliches
CATEGORIES:Wissenschaftlicher Vortrag
CATEGORIES:öffentlich
CATEGORIES:Kolloquium
CONTACT:Ewald Puchwein <epuchwein@aip.de>
DESCRIPTION:Speaker: Andrew Pontzen (Durham University)\nTitle: TBD\n
LOCATION:AIP\; Kirch-Haus\, Konferenzraum
END:VEVENT
END:VCALENDAR
