BEGIN:VCALENDAR
VERSION:2.0
PRODID:-//AIP Calendar//www.aip.de//
BEGIN:VEVENT
SUMMARY:Colloquium | Boris Gaensicke (University of Warwick | Coventry\, U
 K)
DTSTART:20260924T123000Z
DTEND:20260924T133000Z
DTSTAMP:20260422T013807Z
UID:www.aip.de-2361
CATEGORIES:Wissenschaftliches
CATEGORIES:Wissenschaftlicher Vortrag
CATEGORIES:öffentlich
CATEGORIES:Kolloquium
CONTACT:Julián Alvarado-Gómez <julian.alvarado-gomez@aip.de>
DESCRIPTION:Speaker: Boris Gaensicke (University of Warwick | Coventry\, U
 K)\nTitle: TBD\nAbstract: TBD\nNote: Host: Axel Schwope\n
LOCATION:AIP\; Kirch-Haus\, Konferenzraum
END:VEVENT
END:VCALENDAR
