BEGIN:VCALENDAR
VERSION:2.0
PRODID:-//AIP Calendar//www.aip.de//
BEGIN:VEVENT
SUMMARY:Colloquium | Tobias Buck (Heidelberg)
DTSTART:20261119T133000Z
DTEND:20261119T143000Z
DTSTAMP:20260422T014712Z
UID:www.aip.de-2365
CATEGORIES:Wissenschaftliches
CATEGORIES:Wissenschaftlicher Vortrag
CATEGORIES:öffentlich
CATEGORIES:Kolloquium
CONTACT:Ewald Puchwein <epuchwein@aip.de>
DESCRIPTION:Speaker: Tobias Buck (Heidelberg)\nTitle: TBD\n
LOCATION:AIP\; Kirch-Haus\, Konferenzraum
END:VEVENT
END:VCALENDAR
