BEGIN:VCALENDAR
VERSION:2.0
PRODID:-//AIP Calendar//www.aip.de//
BEGIN:VEVENT
SUMMARY:Colloquium | Dominika Wylezalek (University of Heidelberg | German
 y)
DTSTART:20261203T133000Z
DTEND:20261203T143000Z
DTSTAMP:20260422T014615Z
UID:www.aip.de-2366
CATEGORIES:Wissenschaftliches
CATEGORIES:Wissenschaftlicher Vortrag
CATEGORIES:öffentlich
CATEGORIES:Kolloquium
CONTACT:Julián Alvarado-Gómez <julian.alvarado-gomez@aip.de>
DESCRIPTION:Speaker: Dominika Wylezalek (University of Heidelberg | German
 y)\nTitle: TBD\nAbstract: TBD\nNote: Hosts: Tanya Urrutia and Guilherme Co
 uto\n
LOCATION:AIP\; Kirch-Haus\, Konferenzraum
END:VEVENT
END:VCALENDAR
