BEGIN:VCALENDAR
VERSION:2.0
PRODID:-//AIP Calendar//www.aip.de//
BEGIN:VEVENT
SUMMARY:Colloquium | Heino Falke (Radboud University Nijmegen | The Nether
 lands)
DTSTART:20261126T133000Z
DTEND:20261126T143000Z
DTSTAMP:20260422T013553Z
UID:www.aip.de-2373
CATEGORIES:Wissenschaftliches
CATEGORIES:Wissenschaftlicher Vortrag
CATEGORIES:öffentlich
CATEGORIES:Kolloquium
CONTACT:Ewald Puchwein <epuchwein@aip.de>
DESCRIPTION:Speaker: Heino Falke (Radboud University Nijmegen | The Nether
 lands)\nTitle: TBD\nAbstract: TBD\nNote: Host: Christoph Pfrommer\n
LOCATION:AIP\; Kirch-Haus\, Konferenzraum
END:VEVENT
END:VCALENDAR
