BEGIN:VCALENDAR
VERSION:2.0
PRODID:-//AIP Calendar//www.aip.de//
BEGIN:VEVENT
SUMMARY:AIP Seminar | Noam Libeskind (AIP)
DTSTART:20260428T123000Z
DTEND:20260428T133000Z
DTSTAMP:20260422T014329Z
UID:www.aip.de-2385
CATEGORIES:Wissenschaftliches
CATEGORIES:Wissenschaftlicher Vortrag
CATEGORIES:öffentlich
CATEGORIES:AIP Seminar
CONTACT:Rainer Arlt <rarlt@aip.de>
DESCRIPTION:Speaker: Noam Libeskind (AIP)\nTitle: History and use of pecul
 iar velocities in cosmology (tbc)\n
LOCATION:AIP\; Kirch-Haus\, Konferenzraum
END:VEVENT
END:VCALENDAR
