BEGIN:VCALENDAR
VERSION:2.0
PRODID:-//AIP Calendar//www.aip.de//
BEGIN:VEVENT
SUMMARY:Thinkshop zum Thema "Magellanic Clouds"
DTSTART;VALUE=DATE:20270906
DTEND;VALUE=DATE:20270911
DTSTAMP:20260422T014415Z
UID:www.aip.de-2388
CATEGORIES:Wissenschaftliches
CATEGORIES:Wissenschaftliches Meeting/Workshop
CATEGORIES:öffentlich
DESCRIPTION:
END:VEVENT
END:VCALENDAR
