BEGIN:VCALENDAR
VERSION:2.0
PRODID:-//AIP Calendar//www.aip.de//
BEGIN:VEVENT
SUMMARY:The Legacy and Future of Large Surveys: The Milky Way in Context
DTSTART;VALUE=DATE:20260504
DTEND;VALUE=DATE:20260509
DTSTAMP:20260420T065806Z
UID:www.aip.de-2426
CATEGORIES:Wissenschaftliches
CATEGORIES:Wissenschaftliches Meeting/Workshop
CATEGORIES:öffentlich
CONTACT:Ivan Minchev <iminchev@aip.de>
DESCRIPTION:Konferenz am AIP\n
LOCATION:Konferenzraum\, Maria-Margaretha-Kirch-Haus\, Campus Babelsberg d
 es AIP\, An der Sternwarte 16\, 14482 Potsdam
END:VEVENT
END:VCALENDAR
