BEGIN:VCALENDAR
VERSION:2.0
PRODID:-//AIP Calendar//www.aip.de//
BEGIN:VEVENT
SUMMARY:SOLER User Workshop
DTSTART;VALUE=DATE:20260630
DTEND;VALUE=DATE:20260703
DTSTAMP:20260422T014548Z
UID:www.aip.de-2429
CATEGORIES:Wissenschaftliches
CATEGORIES:Wissenschaftliches Meeting/Workshop
CATEGORIES:öffentlich
CONTACT:Alexander Warmuth <awarmuth@aip.de>
DESCRIPTION:
END:VEVENT
END:VCALENDAR
