BEGIN:VCALENDAR
VERSION:2.0
PRODID:-//AIP Calendar//www.aip.de//
BEGIN:VEVENT
SUMMARY:Potsdamer Tag der Wissenschaften 2026
DTSTART:20260509T100000Z
DTEND:20260509T150000Z
DTSTAMP:20260420T070102Z
UID:www.aip.de-2431
CATEGORIES:Öffentliches
CATEGORIES:Öffentlichkeitsarbeit
CATEGORIES:öffentlich
CONTACT:presse@aip.de
DESCRIPTION:
LOCATION:Universitätscampus Golm\, Potsdam
END:VEVENT
END:VCALENDAR
