BEGIN:VCALENDAR
VERSION:2.0
PRODID:-//AIP Calendar//www.aip.de//
BEGIN:VEVENT
SUMMARY:Girls' Day / Zukunftstag Brandenburg
DTSTART;VALUE=DATE:20260423
DTEND;VALUE=DATE:20260424
DTSTAMP:20260420T064915Z
UID:www.aip.de-2432
CATEGORIES:Öffentliches
CATEGORIES:Öffentlichkeitsarbeit
CATEGORIES:öffentlich
CONTACT:presse@aip.de
DESCRIPTION:
LOCATION:Leibniz-Institut für Astrophysik Potsdam (AIP)\, An der Sternwar
 te 16\, 14482 Potsdam
END:VEVENT
END:VCALENDAR
