BEGIN:VCALENDAR
VERSION:2.0
PRODID:-//AIP Calendar//www.aip.de//
BEGIN:VEVENT
SUMMARY:Wempe Lecture 3 | Dr. Sebastian Kamann (Liverpool John Moores Univ
 ersity)
DTSTART:20260512T123000Z
DTEND:20260512T130000Z
DTSTAMP:20260422T014426Z
UID:www.aip.de-2446
CATEGORIES:Wissenschaftliches
CATEGORIES:Wissenschaftlicher Vortrag
CATEGORIES:öffentlich
CATEGORIES:Special Seminar
CATEGORIES:Galaxien\, Kosmologie
CONTACT:Peter Weilbacher <pweilbacher@aip.de>
DESCRIPTION:Speaker: Dr. Sebastian Kamann (Liverpool John Moores Universit
 y)\nTitle:  Wempe lecture 3 “Young star clusters”\n
LOCATION:AIP\; Kirch-Haus\, Konferenzraum
END:VEVENT
END:VCALENDAR
