BEGIN:VCALENDAR
VERSION:2.0
PRODID:-//AIP Calendar//www.aip.de//
BEGIN:VEVENT
SUMMARY:AIP Seminar | Junais (AIP)
DTSTART:20260609T123000Z
DTEND:20260609T133000Z
DTSTAMP:20260422T013943Z
UID:www.aip.de-2467
CATEGORIES:Wissenschaftliches
CATEGORIES:Wissenschaftlicher Vortrag
CATEGORIES:öffentlich
CATEGORIES:AIP Seminar
CONTACT:Marcel Pawlowski <mpawlowski@aip.de>
DESCRIPTION:Speaker: Junais (AIP)\nTitle: Identification and characterisat
 ion of dwarf galaxies from Euclid observations using foundation models\nAb
 stract: tbd\n
LOCATION:AIP\; Kirch-Haus\, Konferenzraum\nZoom link: https://eu02web.zoom
 -x.de/j/3620884100
END:VEVENT
END:VCALENDAR
