BEGIN:VCALENDAR
VERSION:2.0
PRODID:-//AIP Calendar//www.aip.de//
BEGIN:VEVENT
SUMMARY:MUSE Busy Week 2026
DTSTART;VALUE=DATE:20260421
DTEND;VALUE=DATE:20260425
DTSTAMP:20260421T094752Z
UID:www.aip.de-2485
CATEGORIES:Wissenschaftliches
CATEGORIES:Wissenschaftliches Meeting/Workshop
CATEGORIES:öffentlich
DESCRIPTION:
LOCATION:AIP\, Forschungscampus Babelsberg\, Maria-Margaretha-Kirch-Haus\,
  Konferenzraum
END:VEVENT
END:VCALENDAR
