BEGIN:VCALENDAR
VERSION:2.0
PRODID:-//AIP Calendar//www.aip.de//
BEGIN:VEVENT
SUMMARY:Colloquium: Elena Sacchi
DTSTART:20211118T133000Z
DTEND:20211118T143000Z
DTSTAMP:20260422T182503Z
UID:www.aip.de-1045
CATEGORIES:Scientific
CATEGORIES:Generic Event
CATEGORIES:Public
DESCRIPTION:
LOCATION:Colloquium ZOOM room
END:VEVENT
END:VCALENDAR
