BEGIN:VCALENDAR
VERSION:2.0
PRODID:-//AIP Calendar//www.aip.de//
BEGIN:VEVENT
SUMMARY:Colloquium: Jean-Baptiste Salomon
DTSTART:20211209T133000Z
DTEND:20211209T143000Z
DTSTAMP:20260422T182154Z
UID:www.aip.de-1058
CATEGORIES:Scientific
CATEGORIES:Generic Event
CATEGORIES:Public
DESCRIPTION:
LOCATION:Colloquium Zoom
END:VEVENT
END:VCALENDAR
