BEGIN:VCALENDAR
VERSION:2.0
PRODID:-//AIP Calendar//www.aip.de//
BEGIN:VEVENT
SUMMARY:18. Jamboree
DTSTART:20211216T133000Z
DTEND:20211216T143000Z
DTSTAMP:20260422T182614Z
UID:www.aip.de-1107
CATEGORIES:Internal Event
CATEGORIES:Generic Event
CATEGORIES:Public
DESCRIPTION:
LOCATION:Colloquium ZOOM
END:VEVENT
END:VCALENDAR
