BEGIN:VCALENDAR
VERSION:2.0
PRODID:-//AIP Calendar//www.aip.de//
BEGIN:VEVENT
SUMMARY:Special Editon Babelsberg Starry Night: 4MOST
DTSTART:20240308T180000Z
DTEND:20240308T193000Z
DTSTAMP:20260421T144141Z
UID:www.aip.de-1827
CATEGORIES:Public Event
CATEGORIES:Generic Event
CATEGORIES:Public
CONTACT:presse@aip.de
DESCRIPTION:The Leibniz Institute for Astrophysics Potsdam (AIP) invites t
 o a Special Edition of the Babelsberg Starry Nights\, this time live in Ba
 belsberg\, on Friday\, 8th March 2024\, starting at 7:00 pm with a public 
 lecture of Dr. Andreas Kelz on the topic &quot\;4MOST – Observing the sk
 y with 2400 eyes&quot\;. Please note that the lecture will be given in Ger
 man.\nAfter the talk\, we offer a tour over the AIP campus\, including a g
 limpse into the integration hall where the 4MOST instrument is being built
 . If the sight is clear\, an observation with one of our historical reflec
 ting telescopes is possible.\nWe look forward to your visit!\nFree entry\,
  no previous registration necessary.\n
LOCATION:Lecture hall in Schwarzschildhaus\, Leibniz Institute for Astroph
 ysics Potsdam (AIP)\, An der Sternwarte 16\, 14482 Potsdam
END:VEVENT
END:VCALENDAR
