BEGIN:VCALENDAR
VERSION:2.0
PRODID:-//AIP Calendar//www.aip.de//
BEGIN:VEVENT
SUMMARY:Colloquium | Serena Criscuoli
DTSTART:20260618T123000Z
DTEND:20260618T133000Z
DTSTAMP:20260419T220329Z
UID:www.aip.de-2352
CATEGORIES:Scientific
CATEGORIES:Scientific Talk
CATEGORIES:Public
CATEGORIES:Colloquium
CONTACT:Julián Alvarado-Gómez <julian.alvarado-gomez@aip.de>
DESCRIPTION:Speaker: Serena Criscuoli (National Solar Observatory | Boulde
 r\, CO\, USA)\nTitle: TBD\nAbstract: TBD\nNote: Host: Meetu Verma\n
LOCATION:AIP\; Kirch building\, Conference room
END:VEVENT
END:VCALENDAR
