BEGIN:VCALENDAR
VERSION:2.0
PRODID:-//AIP Calendar//www.aip.de//
BEGIN:VEVENT
SUMMARY:Colloquium | Paul Groot (UCT/SAAO and Radboud University)
DTSTART:20260625T123000Z
DTEND:20260625T133000Z
DTSTAMP:20260420T005345Z
UID:www.aip.de-2369
CATEGORIES:Scientific
CATEGORIES:Scientific Talk
CATEGORIES:Public
CATEGORIES:Colloquium
CONTACT:Ivan Minchev <iminchev@aip.de>
DESCRIPTION:Speaker: Paul Groot (UCT/SAAO and Radboud University)\nTitle: 
 Ultra-compact binaries and gravitational-wave progenitors\nAbstract: TBD\n
 Note: Host: Alex Schwope\n
LOCATION:AIP\; Kirch building\, Conference room
END:VEVENT
END:VCALENDAR
