BEGIN:VCALENDAR
VERSION:2.0
PRODID:-//AIP Calendar//www.aip.de//
BEGIN:VEVENT
SUMMARY:Colloquium | Eric F. Bell (University of Michigan)
DTSTART:20260604T123000Z
DTEND:20260604T133000Z
DTSTAMP:20260419T221934Z
UID:www.aip.de-2370
CATEGORIES:Scientific
CATEGORIES:Scientific Talk
CATEGORIES:Public
CATEGORIES:Colloquium
CONTACT:Ivan Minchev <iminchev@aip.de>
DESCRIPTION:Speaker: Eric F. Bell (University of Michigan)\nTitle: TBD\nNo
 te: Host: Roelof de Jong\n
LOCATION:AIP\; Kirch building\, Conference room
END:VEVENT
END:VCALENDAR
