BEGIN:VCALENDAR
VERSION:2.0
PRODID:-//AIP Calendar//www.aip.de//
BEGIN:VEVENT
SUMMARY:Thinkshop focused on the Magellanic Clouds
DTSTART;VALUE=DATE:20270906
DTEND;VALUE=DATE:20270911
DTSTAMP:20260420T003936Z
UID:www.aip.de-2388
CATEGORIES:Scientific
CATEGORIES:Scientific Meeting
CATEGORIES:Public
DESCRIPTION:
END:VEVENT
END:VCALENDAR
