BEGIN:VCALENDAR
VERSION:2.0
PRODID:-//AIP Calendar//www.aip.de//
BEGIN:VEVENT
SUMMARY:AIP Seminar | Matthias Steinmetz (AIP)
DTSTART:20260519T123000Z
DTEND:20260519T133000Z
DTSTAMP:20260419T220329Z
UID:www.aip.de-2396
CATEGORIES:Scientific
CATEGORIES:Scientific Talk
CATEGORIES:Public
CATEGORIES:AIP Seminar
CONTACT:Marcel Pawlowski <mpawlowski@aip.de>
DESCRIPTION:Speaker: Matthias Steinmetz (AIP)\nTitle: TBD (DZA)\n
LOCATION:AIP\; Kirch building\, Conference room
END:VEVENT
END:VCALENDAR
