BEGIN:VCALENDAR
VERSION:2.0
PRODID:-//AIP Calendar//www.aip.de//
BEGIN:VEVENT
SUMMARY:Colloquium | Marta Volonteri (IAP\, Paris)
DTSTART:20261105T133000Z
DTEND:20261105T143000Z
DTSTAMP:20260420T005025Z
UID:www.aip.de-2406
CATEGORIES:Scientific
CATEGORIES:Scientific Talk
CATEGORIES:Public
CATEGORIES:Colloquium
CONTACT:Ewald Puchwein <epuchwein@aip.de>
DESCRIPTION:Speaker: Marta Volonteri (IAP\, Paris)\nTitle: TBD\n
LOCATION:AIP\; Kirch building\, Conference room
END:VEVENT
END:VCALENDAR
