BEGIN:VCALENDAR
VERSION:2.0
PRODID:-//AIP Calendar//www.aip.de//
BEGIN:VEVENT
SUMMARY:Potsdam Day of Sciences 2026
DTSTART:20260509T100000Z
DTEND:20260509T150000Z
DTSTAMP:20260420T223637Z
UID:www.aip.de-2431
CATEGORIES:Public Event
CATEGORIES:Outreach Event
CATEGORIES:Public
CONTACT:presse@aip.de
DESCRIPTION:
LOCATION:University Campus Golm\, Potsdam
END:VEVENT
END:VCALENDAR
