BEGIN:VCALENDAR
VERSION:2.0
PRODID:-//AIP Calendar//www.aip.de//
BEGIN:VEVENT
SUMMARY:Wempe Lecture 2 | Dr. Sebastian Kamann (Liverpool John Moores Univ
 ersity)
DTSTART:20260427T120000Z
DTEND:20260427T130000Z
DTSTAMP:20260419T220647Z
UID:www.aip.de-2445
CATEGORIES:Scientific
CATEGORIES:Scientific Talk
CATEGORIES:Public
CATEGORIES:Special Seminar
CATEGORIES:Galaxies\, Cosmology
CONTACT:Peter Weilbacher <pweilbacher@aip.de>
DESCRIPTION:Speaker: Dr. Sebastian Kamann (Liverpool John Moores Universit
 y)\nTitle:  Wempe lecture 2 “Star cluster dynamics”\n
LOCATION:AIP\; Kirch building\, Conference room
END:VEVENT
END:VCALENDAR
